BEGIN:VCALENDAR
VERSION:2.0
PRODID:-//wp-events-plugin.com//7.2.1//EN
BEGIN:VEVENT
UID:22@chroniceaters.org
DTSTART;TZID=America/New_York:20260525T080000
DTEND;TZID=America/New_York:20260525T200000
DTSTAMP:20260419T005309Z
URL:https://chroniceaters.org/events/speaker-marathon-3/
SUMMARY:Speaker Marathon
DESCRIPTION:Speaker Meeting Marathon\nfor recovery from compulsive eating\n
 \nEvery hour a different speaker will share their story of recovery\n\nDia
 l in: +1(605)313-5736*\nAccess code: 400400\n\nJoin the meeting online:\nh
 ttps://join.freeconferencecall.com/speakermarathon\nMeeting ID: speakermar
 athon\n\n* T-Mobile users in the USA first dial (720) 844-1241 then follow
  the same instructions
ATTACH;FMTTYPE=image/jpeg:https://chroniceaters.org/wp-content/uploads/202
 6/04/May-25-CCEA-Marathon-Flyer.png
LOCATION:https://join.freeconferencecall.com/speakermarathon
END:VEVENT
BEGIN:VTIMEZONE
TZID:America/New_York
X-LIC-LOCATION:America/New_York
BEGIN:DAYLIGHT
DTSTART:20260308T030000
TZOFFSETFROM:-0500
TZOFFSETTO:-0400
TZNAME:EDT
END:DAYLIGHT
END:VTIMEZONE
END:VCALENDAR